BEGIN:VCALENDAR
VERSION:2.0
PRODID:-//Clear Measure - ECPv6.15.16//NONSGML v1.0//EN
CALSCALE:GREGORIAN
METHOD:PUBLISH
X-WR-CALNAME:Clear Measure
X-ORIGINAL-URL:https://clearmeasure.com
X-WR-CALDESC:Events for Clear Measure
REFRESH-INTERVAL;VALUE=DURATION:PT1H
X-Robots-Tag:noindex
X-PUBLISHED-TTL:PT1H
BEGIN:VTIMEZONE
TZID:America/Chicago
BEGIN:DAYLIGHT
TZOFFSETFROM:-0600
TZOFFSETTO:-0500
TZNAME:CDT
DTSTART:20240310T080000
END:DAYLIGHT
BEGIN:STANDARD
TZOFFSETFROM:-0500
TZOFFSETTO:-0600
TZNAME:CST
DTSTART:20241103T070000
END:STANDARD
BEGIN:DAYLIGHT
TZOFFSETFROM:-0600
TZOFFSETTO:-0500
TZNAME:CDT
DTSTART:20250309T080000
END:DAYLIGHT
BEGIN:STANDARD
TZOFFSETFROM:-0500
TZOFFSETTO:-0600
TZNAME:CST
DTSTART:20251102T070000
END:STANDARD
BEGIN:DAYLIGHT
TZOFFSETFROM:-0600
TZOFFSETTO:-0500
TZNAME:CDT
DTSTART:20260308T080000
END:DAYLIGHT
BEGIN:STANDARD
TZOFFSETFROM:-0500
TZOFFSETTO:-0600
TZNAME:CST
DTSTART:20261101T070000
END:STANDARD
END:VTIMEZONE
BEGIN:VEVENT
DTSTART;VALUE=DATE:20250422
DTEND;VALUE=DATE:20250424
DTSTAMP:20260424T064425
CREATED:20250403T153353Z
LAST-MODIFIED:20250403T153353Z
UID:1590-1745280000-1745452799@clearmeasure.com
SUMMARY:.NET Conf Focus on Modernization
DESCRIPTION:Learn how to modernize your .NET applications and unlock the benefits of modern app development in this virtual event on April 22 and 23\, 2025. \nStaying ahead demands strategic approaches to keep up with a fast-evolving technology environment. Modernizing .NET apps has never been more important\, and involves technical upgrades\, cloud migration\, and modernizing people\, processes\, and skills. This event offers deep insight into success stories\, the latest innovations\, and best practices. \nWhat to expect at the conference\n2-day developer event with live sessions featuring speakers from the .NET community and Microsoft. Enhance your skills as a .NET developer and learn how to migrate and modernize applications\, save costs\, and innovate faster. Keep it interactive by asking your questions live on X\, Mastodon\, YouTube\, or Twitch. \nFeatured Speakers\n\nMaddy Montaquilla\nJerry Nixon\nScott Hanselman
URL:https://clearmeasure.com/training/net-conf-focus-on-modernization-2025-04/
CATEGORIES:Industry Event
ATTACH;FMTTYPE=image/jpeg:https://clearmeasure.com/wp-content/uploads/2025/04/dotnet-Conf-Focus-Modernization.jpg
END:VEVENT
END:VCALENDAR