BEGIN:VCALENDAR
VERSION:2.0
PRODID:-//Clear Measure - ECPv6.15.16//NONSGML v1.0//EN
CALSCALE:GREGORIAN
METHOD:PUBLISH
X-WR-CALNAME:Clear Measure
X-ORIGINAL-URL:https://clearmeasure.com
X-WR-CALDESC:Events for Clear Measure
REFRESH-INTERVAL;VALUE=DURATION:PT1H
X-Robots-Tag:noindex
X-PUBLISHED-TTL:PT1H
BEGIN:VTIMEZONE
TZID:America/Chicago
BEGIN:DAYLIGHT
TZOFFSETFROM:-0600
TZOFFSETTO:-0500
TZNAME:CDT
DTSTART:20240310T080000
END:DAYLIGHT
BEGIN:STANDARD
TZOFFSETFROM:-0500
TZOFFSETTO:-0600
TZNAME:CST
DTSTART:20241103T070000
END:STANDARD
BEGIN:DAYLIGHT
TZOFFSETFROM:-0600
TZOFFSETTO:-0500
TZNAME:CDT
DTSTART:20250309T080000
END:DAYLIGHT
BEGIN:STANDARD
TZOFFSETFROM:-0500
TZOFFSETTO:-0600
TZNAME:CST
DTSTART:20251102T070000
END:STANDARD
BEGIN:DAYLIGHT
TZOFFSETFROM:-0600
TZOFFSETTO:-0500
TZNAME:CDT
DTSTART:20260308T080000
END:DAYLIGHT
BEGIN:STANDARD
TZOFFSETFROM:-0500
TZOFFSETTO:-0600
TZNAME:CST
DTSTART:20261101T070000
END:STANDARD
END:VTIMEZONE
BEGIN:VEVENT
DTSTART;TZID=America/Chicago:20250930T140000
DTEND;TZID=America/Chicago:20250930T150000
DTSTAMP:20260422T111447
CREATED:20250915T150838Z
LAST-MODIFIED:20251118T155031Z
UID:1767-1759240800-1759244400@clearmeasure.com
SUMMARY:Architecture for AI Driven Development Unlocked with Visual Studio 2026 and .NET 10
DESCRIPTION:Join us for a deep dive into the future of intelligent software development\, where performance meets productivity. \nThis webinar explores how Visual Studio 2026 and .NET 10 are reshaping the developer experience with AI-powered tooling and runtime enhancements\, enabling massive increases in software team throughput. \nDiscover how Visual Studio’s redesigned interface\, faster build times\, and integrated AI assistants streamline architecture decisions and accelerate delivery. \nIf you’re building scalable enterprise systems or experimenting with AI driven workflows\, join Clear Measure Chief Architect Jeffrey Palermo in this session to equip you with the insights to architect smarter\, faster\, and more maintainable solutions.
URL:https://clearmeasure.com/training/webinar-2025-09-30/
CATEGORIES:Webinar
ATTACH;FMTTYPE=image/png:https://clearmeasure.com/wp-content/uploads/2025/09/Architecture-for-AI-Driven-Development-1.png
END:VEVENT
END:VCALENDAR